BEGIN:VCALENDAR
VERSION:2.0
PRODID:-//ChamberMaster//Event Calendar 2.0//EN
METHOD:PUBLISH
X-PUBLISHED-TTL:P3D
REFRESH-INTERVAL:P3D
CALSCALE:GREGORIAN
BEGIN:VEVENT
DTSTART;VALUE=DATE:20190624
DTEND;VALUE=DATE:20190629
TRANSP:TRANSPARENT
X-MICROSOFT-CDO-ALLDAYEVENT:TRUE
SUMMARY:Business Walk
DESCRIPTION:Taking the pulse of the Mission Business Community\n\n\n\nBusiness Walk is a business retention and expansion program designed to connect and identify with businesses in our community. The Mission Chamber team and volunteers will be hitting the streets\, visiting over 150 local businesses. By engaging with business in town we can take appropriate action on solving issues and identifying opportunities to assis businesses to stay and grow in the community.\n\n\n\nVisiting a local business near you!
X-ALT-DESC;FMTTYPE=text/html:<i><span style="font-size:16px\;"><span style="font-family:times new roman\;"><span style="font-size:18px\;">Taking the pulse of the Mission Business Community</span></span></span><br />\n<br />\n<span style="font-size:14px\;">Business Walk </span></i><span style="font-size:14px\;">is a business retention and expansion program designed to connect and identify with businesses in our community. The Mission Chamber team and volunteers will be hitting the streets\, visiting over 150 local businesses. By engaging with business in town we can take appropriate action on solving issues and identifying opportunities to assis businesses to stay and grow in the community.</span><br />\n<br />\n<span style="font-size:18px\;"><span style="font-family:times new roman\;"><i>Visiting a local business near you!</i></span></span>
LOCATION:
UID:e.1106.12043
SEQUENCE:3
DTSTAMP:20260422T200911Z
URL:https://business.missionchamber.bc.ca/events/details/business-walk-12043
END:VEVENT

END:VCALENDAR
