BEGIN:VCALENDAR
VERSION:2.0
PRODID:-//ChamberMaster//Event Calendar 2.0//EN
METHOD:PUBLISH
X-PUBLISHED-TTL:P3D
REFRESH-INTERVAL:P3D
CALSCALE:GREGORIAN
BEGIN:VEVENT
DTSTART:20191017T183000Z
DTEND:20191017T203000Z
X-MICROSOFT-CDO-ALLDAYEVENT:FALSE
SUMMARY:Chamber Luncheon - Presenting the District of Mission
DESCRIPTION:The Chamber welcomes the District of Mission to join us at the beautiful Steelhead Hall (12 minutes north of the Municipal Hall) for the annual DOM presentation to the membership. \n\n\n\nEnjoy a delicious lunch\, catered by the Galley Girls\, while learning about the current projects underway in the District directly from the heads of various department. \n\n\n\nDistrict of Mission Presenters\n\nManager of Civic Engagement & Corporate Initiatives:  Michael Boronowski\n\nEconomic Development Officer: Stacey Crawford\n\nDirector of Engineering and Public Works:  Tracy Kyle\n\nDirector of Development Services: Dan Sommer \n\nDirector of Park\, Recreation and Culture: Maureen Sinclair
X-ALT-DESC;FMTTYPE=text/html:The Chamber welcomes the District of Mission to join us at the beautiful Steelhead Hall (12 minutes north of the Municipal Hall) for the annual DOM presentation to the membership.&nbsp\;<br />\n<br />\nEnjoy a delicious lunch\, catered by the Galley Girls\, while learning about the current projects underway in the District directly from the heads of various department.&nbsp\;<br />\n<br />\n<strong>District of Mission Presenters</strong><br />\nManager of Civic Engagement &amp\; Corporate Initiatives:&nbsp\; Michael Boronowski<br />\nEconomic Development Officer: Stacey Crawford<br />\nDirector of Engineering and Public Works:&nbsp\; Tracy Kyle<br />\nDirector of Development Services: Dan Sommer&nbsp\;<br />\nDirector of Park\, Recreation and Culture: Maureen Sinclair&nbsp\;<br />\n<br />\n<br />\n&nbsp\;
LOCATION:Steelhead Community Hall 32972 Cardinal Street Mission BC
UID:e.1106.12084
SEQUENCE:3
DTSTAMP:20260422T120442Z
URL:https://business.missionchamber.bc.ca/events/details/chamber-luncheon-presenting-the-district-of-mission-12084
END:VEVENT

END:VCALENDAR
