BEGIN:VCALENDAR
VERSION:2.0
PRODID:-//ChamberMaster//Event Calendar 2.0//EN
METHOD:PUBLISH
X-PUBLISHED-TTL:P3D
REFRESH-INTERVAL:P3D
CALSCALE:GREGORIAN
BEGIN:VEVENT
DTSTART:20190705T200000Z
DTEND:20190705T233000Z
X-MICROSOFT-CDO-ALLDAYEVENT:FALSE
SUMMARY:Destination Ambassador Customer Service Training
DESCRIPTION:A remarkable experience relies on exceptional customer service\, starting from the moment a visitor sets foot in a community and at every touch point that follows.\n\nHow do you become a local Ambassador and ensure that you are contributing to a positive\, authentic visitor experience that shows all that your community has to offer?\n\nDestination Ambassador covers key topics that make for memorable visitor experiences\, including:\n\n	The role of local ambassadors in the visitor experience\n	The importance of tourism and how it benefits your local community\n	Different visitor profiles and reasons they visit your area\n	Products and services your community has to offer visitors\n	Where to access information and how to provide helpful service to others
X-ALT-DESC;FMTTYPE=text/html:A remarkable experience relies on exceptional customer service\, starting from the moment a visitor sets foot in a community and at every touch point that follows.<br />\nHow do you become a local Ambassador and ensure that you are contributing to a positive\, authentic visitor experience that shows all that your community has to offer?<br />\nDestination Ambassador covers key topics that make for memorable visitor experiences\, including:\n<ul>\n	<li style="box-sizing:border-box\;">The role of local ambassadors in the visitor experience</li>\n	<li style="box-sizing:border-box\;">The importance of tourism and how it benefits your local community</li>\n	<li style="box-sizing:border-box\;">Different visitor profiles and reasons they visit your area</li>\n	<li style="box-sizing:border-box\;">Products and services your community has to offer visitors</li>\n	<li style="box-sizing:border-box\;">Where to access information and how to provide helpful service to others</li>\n</ul>\n
LOCATION:Basic Workshop Details A one day workshop includes approx 3.5-4 hours of instruction The post-workshop evaluation is online so a device with access to the internet will be required. (a device can be available upon request)
UID:e.1106.12054
SEQUENCE:3
DTSTAMP:20260422T165052Z
URL:https://business.missionchamber.bc.ca/events/details/destination-ambassador-customer-service-training-12054
END:VEVENT

END:VCALENDAR
