BEGIN:VCALENDAR
VERSION:2.0
PRODID:-//ChamberMaster//Event Calendar 2.0//EN
METHOD:PUBLISH
X-PUBLISHED-TTL:P3D
REFRESH-INTERVAL:P3D
CALSCALE:GREGORIAN
BEGIN:VEVENT
DTSTART:20191116T170000Z
DTEND:20191118T000000Z
X-MICROSOFT-CDO-ALLDAYEVENT:FALSE
SUMMARY:Fraser Valley Bald Eagle Festival
DESCRIPTION:The Fraser Valley Bald Eagle Festival \n\nFree family edu-tainment at various locations from Mission to Harrison Mills.\n\n\n\n  Eagle viewing\n\n  Expert speakers\n\n  Environmental displays\n\n  Nature walking tours\n\n  Green businesses\n\n  Delicious food\n\n  and more!
X-ALT-DESC;FMTTYPE=text/html:<div class="grid_3 third-home-widget-area" style="border: 0px\; font-family: Cabin\, Arial\, Helvetica\, Tahoma\, sans-serif\; font-size: 14px\; margin: 0px 20px\; outline: 0px\; padding: 0px\; vertical-align: baseline\; display: inline\; float: left\; position: relative\; width: 260px\;">\n<aside class="widget widget_text" id="text-18" style="font-size: 15px\;">\n<div class="textwidget" style="border: 0px\; font-family: inherit\; font-style: inherit\; font-weight: inherit\; margin: 0px\; outline: 0px\; padding: 0px\; vertical-align: baseline\;">\n<p style="border: 0px\; font-family: &quot\;Segoe UI&quot\;\, &quot\;Myriad Pro&quot\;\, Trebuchet\, sans-serif\; font-size: 16px\; font-style: inherit\; font-weight: inherit\; margin: 0px 0px 1.5em\; outline: 0px\; padding: 0px\; vertical-align: baseline\; line-height: 24px\;">The Fraser Valley Bald Eagle Festival&nbsp\;<br />\nFree family edu-tainment&nbsp\;at various locations from Mission to Harrison Mills.<br />\n<br />\n&bull\; Eagle viewing<br />\n&bull\; Expert speakers<br />\n&bull\; Environmental displays<br />\n&bull\; Nature walking tours<br />\n&bull\; Green businesses<br />\n&bull\; Delicious food<br />\n&bull\; and more!</p>\n</div>\n</aside>\n</div>\n
LOCATION:Sites include: Mission Regional Chamber of Commerce & Visitor Centre Inch Creek Hatchery Harrison Mills Hall Kilby Historic Site Fraser River Safari Tours Sandpiper Golf Resort Tapadera Estates
UID:e.1106.12082
SEQUENCE:3
DTSTAMP:20260422T121617Z
URL:https://business.missionchamber.bc.ca/events/details/fraser-valley-bald-eagle-festival-12082
END:VEVENT

END:VCALENDAR
