BEGIN:VCALENDAR
VERSION:2.0
PRODID:-//ChamberMaster//Event Calendar 2.0//EN
METHOD:PUBLISH
X-PUBLISHED-TTL:P3D
REFRESH-INTERVAL:P3D
CALSCALE:GREGORIAN
BEGIN:VEVENT
DTSTART:20191116T020000Z
DTEND:20191116T073000Z
X-MICROSOFT-CDO-ALLDAYEVENT:FALSE
SUMMARY:Fraser Valley Grand Gala
DESCRIPTION:The Fraser Valley Health Care Foundation is pleased to announce they are hosting their inaugural Fraser Valley Grand Gala. This Gala will be the signature event for the Fraser Valley Health Care Foundation\, with the event bringing together donors\, supporters\, public officials and community leaders\, from across the eastern Fraser Valley\, for a memorable evening to celebrate and support the hospitals and health care I the region.
X-ALT-DESC;FMTTYPE=text/html:The Fraser Valley Health Care Foundation is pleased to announce they are hosting their inaugural Fraser Valley Grand Gala. This Gala will be the signature event for the Fraser Valley Health Care Foundation\, with the event bringing together donors\, supporters\, public officials and community leaders\, from across the eastern Fraser Valley\, for a memorable evening to celebrate and support the hospitals and health care I the region.
LOCATION:The Copper Room at Harrison Hot Springs Resort - 100 Esplanade Ave\, Harrison Hot Springs\, BC V0M 1K0
UID:e.1106.12025
SEQUENCE:3
DTSTAMP:20260422T120141Z
URL:https://business.missionchamber.bc.ca/events/details/fraser-valley-grand-gala-12025
END:VEVENT

END:VCALENDAR
