BEGIN:VCALENDAR
VERSION:2.0
PRODID:-//ChamberMaster//Event Calendar 2.0//EN
METHOD:PUBLISH
X-PUBLISHED-TTL:P3D
REFRESH-INTERVAL:P3D
CALSCALE:GREGORIAN
BEGIN:VEVENT
DTSTART;VALUE=DATE:20190627
DTEND;VALUE=DATE:20190628
TRANSP:TRANSPARENT
X-MICROSOFT-CDO-ALLDAYEVENT:TRUE
SUMMARY:Golf for Kids' Sake
DESCRIPTION:Big Brothers Big Sisters of the Fraser Valley is celebrating 50 years of mentoring and we want you to join us! On June 27th\, we are hosting our 30th annual charity golf tournament at Sandpiper Golf Course. Our golf tournament is famous for being fun! Cost: $250 - includes lunch\, golf\, cart rental\, dinner and silent auction. You can add fishing and/or accommodations - click the link to find out more! More information and registration: https://sandpiper.golfems2.com/event/big-brothers-big-sisters-50th-golf-tournament Host Sponsor: Assante Wealth Management
X-ALT-DESC;FMTTYPE=text/html:Big Brothers Big Sisters of the Fraser Valley is celebrating 50 years of mentoring and we want you to join us! On June 27th\, we are hosting our 30th annual charity golf tournament at Sandpiper Golf Course. Our golf tournament is famous for being fun! Cost: $250 - includes lunch\, golf\, cart rental\, dinner and silent auction. You can add fishing and/or accommodations - click the link to find out more! More information and registration: https://sandpiper.golfems2.com/event/big-brothers-big-sisters-50th-golf-tournament Host Sponsor: Assante Wealth Management
LOCATION:Big Brothers Big Sisters of the Fraser Valley is celebrating 50 years of mentoring and we want you to join us! On June 27th\, we are hosting our 30th annual charity golf tournament at Sandpiper Golf Course. Our golf tournament is famous for being fun! Cost: $250 - includes lunch\, golf\, cart rental\, dinner and silent auction. You can add fishing and/or accommodations - click the link to find out more! More information and registration: https://sandpiper.golfems2.com/event/big-brothers-big-sisters-50th-golf-tournament Host Sponsor: Assante Wealth Management
UID:e.1106.12049
SEQUENCE:3
DTSTAMP:20260422T185303Z
URL:https://business.missionchamber.bc.ca/events/details/golf-for-kids-sake-06-27-2019-12049
END:VEVENT

END:VCALENDAR
