BEGIN:VCALENDAR
VERSION:2.0
PRODID:-//ChamberMaster//Event Calendar 2.0//EN
METHOD:PUBLISH
X-PUBLISHED-TTL:P3D
REFRESH-INTERVAL:P3D
CALSCALE:GREGORIAN
BEGIN:VEVENT
DTSTART:20190621T183000Z
DTEND:20190622T020000Z
X-MICROSOFT-CDO-ALLDAYEVENT:FALSE
SUMMARY:Golfing "Fore" Your Hospital
DESCRIPTION:Fraser Valley Health Care Foundation supports the hospitals in the eastern Fraser Valley and we wanted to give every community we serve the chance to be part of the 4th annual Fraser Valley Health Care Foundation Golf Tournament presented by RBC Dominion Securities. Since 2016\, the Golf Tournament has raised $34\,000 towards the greatest equipment needs in our region. This year we will be raising funds for the greatest need at our hospitals in Abbotsford\, Chilliwack\, Mission and Hope.
X-ALT-DESC;FMTTYPE=text/html:Fraser Valley Health Care Foundation supports the hospitals in the eastern Fraser Valley and we wanted to give every community we serve the chance to be part of the 4th annual Fraser Valley Health Care Foundation Golf Tournament presented by RBC Dominion Securities. Since 2016\, the Golf Tournament has raised $34\,000 towards the greatest equipment needs in our region. This year we will be raising funds for the greatest need at our hospitals in Abbotsford\, Chilliwack\, Mission and Hope.
LOCATION:Chilliwack Golf Club - 41894 Yale Rd\, Chilliwack\, BC V2R 4J3
UID:e.1106.12024
SEQUENCE:3
DTSTAMP:20260421T070916Z
URL:https://business.missionchamber.bc.ca/events/details/golfing-fore-your-hospital-12024
END:VEVENT

END:VCALENDAR
