BEGIN:VCALENDAR
VERSION:2.0
PRODID:-//ChamberMaster//Event Calendar 2.0//EN
METHOD:PUBLISH
X-PUBLISHED-TTL:P3D
REFRESH-INTERVAL:P3D
CALSCALE:GREGORIAN
BEGIN:VEVENT
DTSTART:20190504T160000Z
DTEND:20190504T210000Z
X-MICROSOFT-CDO-ALLDAYEVENT:FALSE
SUMMARY:Hatzic Community Garage Sale
DESCRIPTION:Simone & Leslie Redburn of TurnKey360 Property Marketing are thrilled to host and sponsor the second annual "Junque Out Yer Trunk" Hatzic Community Garage Sale! Email simone@turnkey-360.com to register your address (Hatzic only) to flog your wares\, or just grab a route map (from vendor locations) & follow our signs to seek out hidden Hatzic treasures! Happy huntin'!
X-ALT-DESC;FMTTYPE=text/html:Simone &amp\; Leslie Redburn of TurnKey360 Property Marketing are thrilled to host and sponsor the second annual &ldquo\;Junque Out Yer Trunk&rdquo\; Hatzic Community Garage Sale! Email simone@turnkey-360.com to register your address (Hatzic only) to flog your wares\, or just grab a route map (from vendor locations) &amp\; follow our signs to seek out hidden Hatzic treasures! Happy huntin&rsquo\;!
LOCATION:Hatzic area\, Mission
UID:e.1106.12041
SEQUENCE:3
DTSTAMP:20260422T201237Z
URL:https://business.missionchamber.bc.ca/events/details/hatzic-community-garage-sale-12041
END:VEVENT

END:VCALENDAR
