BEGIN:VCALENDAR
VERSION:2.0
PRODID:-//ChamberMaster//Event Calendar 2.0//EN
METHOD:PUBLISH
X-PUBLISHED-TTL:P3D
REFRESH-INTERVAL:P3D
CALSCALE:GREGORIAN
BEGIN:VEVENT
DTSTART:20190622T010000Z
DTEND:20190622T030000Z
X-MICROSOFT-CDO-ALLDAYEVENT:FALSE
SUMMARY:Incredible India Evening Like No Other!
DESCRIPTION:Be Our Guest For An Indian Evening of Magic!\n\nLearn all you need to know about Travelling to India.\n\nIndia Snacks\, Beverages and More.\n\n\n\n\n\nWorld Odyssey Travel
X-ALT-DESC;FMTTYPE=text/html:<p style="margin-left:0in\; margin-right:0in\; text-align:left"><strong>Be Our Guest For An</strong> <strong>Indian Evening of Magic!<br />\nLearn all you need to know about Travelling to India.<br />\nIndia Snacks\, Beverages and More.<br />\n<br />\n<br />\nWorld Odyssey Travel&nbsp\;</strong><br />\n&nbsp\;</p>\n
LOCATION:World Odyssey Travel 204-32530 Lougheed Hwy\, Mission\,BC
UID:e.1106.12050
SEQUENCE:3
DTSTAMP:20260422T201341Z
URL:https://business.missionchamber.bc.ca/events/details/incrediable-india-evening-like-no-other-12050
END:VEVENT

END:VCALENDAR
