BEGIN:VCALENDAR
VERSION:2.0
PRODID:-//ChamberMaster//Event Calendar 2.0//EN
METHOD:PUBLISH
X-PUBLISHED-TTL:P3D
REFRESH-INTERVAL:P3D
CALSCALE:GREGORIAN
BEGIN:VEVENT
DTSTART:20200312T183000Z
DTEND:20200312T203000Z
X-MICROSOFT-CDO-ALLDAYEVENT:FALSE
SUMMARY:MRCC Annual General Meeting
DESCRIPTION:The Annual General Meeting (AGM) is an important yearly function for all members in good standing to attend.\n\n\n\nThe AGM gives the Mission Regional Chamber of Commerce an opportunity to communicate with members and demonstrate organizational accountability while fulfilling the legal requirement of the not-for-profit organization's bylaws.  It also enables members to participate in the governance of the Mission Chamber by electing the Board of Directors.\n\n\n\nThe AGM is well-attended. Members enjoy a report on activities and successes of the past year\, learn about organizational initiatives for the year ahead\, ask questions about the financial statements and pass a motion to accept the slate of Board members as presented. They also hear from the elected Chair of the Board.\n\n\n\nMembers are engaged in the agenda and mandated requirements under the Incorporations Act. Following the formal portion of the meeting\, members enjoy refreshments while networking with colleagues\, the newly elected Board of Directors and Mission Chamber staff. \n\n\n\nWe invite all members to attend the AGM.\n\n\n\nAGENDA (details coming soon) \n\n2019 ANNUAL GENERAL MEETING MINUTES\n\n2020/2021 BOARD OF DIRECTORS NOMINEES   \n\nPROPOSED BYLAW CHANGES\n\n\n\nQuestions? Contact our office: 604.826.6914 | execdir@missionchamber.bc.ca\n\nLunch included in the registration\n\n*WiFi available\n\n\n\n\n\n\n\n \n\nNominations are now CLOSED for 3 available spots for Director on the Chamber Board (2-year terms beginning April 1\, 2020).\n\n\n\nNominations\n\nIf you are a voting member in good standing you are eligible to run for Director.\n\nIf you are interested in letting your name stand for election\, please contact Jo-Anne Chadwick\n\nexecdir@missionchamber.bc.ca for the application package.\n\nNominations from the membership at large require the signatures of two voting members in good standing as well as that of the nominee.\n\n\n\nIn addition\, a brief bio (200 words) and a headshot are required.\n\nNominations for Director from the membership at large deadline for completed nominations is February 29\, 2020
X-ALT-DESC;FMTTYPE=text/html:<p>The Annual General Meeting (AGM) is an important yearly function for all members in good standing to attend.<br />\n<br />\nThe AGM gives the Mission Regional Chamber of Commerce an opportunity to communicate with members and demonstrate organizational accountability while fulfilling the legal requirement of the not-for-profit organization&#39\;s bylaws.&nbsp\; It also enables members to participate in the governance of the Mission Chamber by electing the&nbsp\;Board of Directors.<br />\n<br />\nThe AGM is well-attended. Members enjoy a report on activities and successes of the past year\, learn about organizational initiatives for the year ahead\, ask questions about the financial statements and pass a motion to accept the slate of Board members as presented. They also hear from the elected Chair of the Board.<br />\n<br />\nMembers are engaged in the agenda and mandated requirements under the Incorporations Act. Following the formal portion of the meeting\, members enjoy refreshments while networking with colleagues\, the newly elected Board of Directors and Mission Chamber staff.&nbsp\;<br />\n<br />\nWe invite all members to attend the&nbsp\;AGM.<br />\n<br />\n<strong>AGENDA (details coming soon)&nbsp\;</strong><br />\n<a href="https://chambermaster.blob.core.windows.net/userfiles/UserFiles/chambers/1106/File/Events/AGM/2019AGMMRCCMinutes.pdf">2019 ANNUAL GENERAL MEETING MINUTES</a><br />\n<a href="https://chambermaster.blob.core.windows.net/userfiles/UserFiles/chambers/1106/File/Events/AGM/MEETYOUR2020BOARDEXECUTIVESFORPRINTING.pdf" target="_blank">2020/2021&nbsp\;BOARD OF DIRECTORS NOMINEES</a>&nbsp\;&nbsp\;&#8203\;<br />\n<a href="https://chambermaster.blob.core.windows.net/userfiles/UserFiles/chambers/1106/File/Events/AGM/ProposedBylawChangesMarch12th.pdf" target="_blank">PROPOSED BYLAW CHANGES</a><br />\n<br />\nQuestions?&nbsp\;Contact our office: 604.826.6914&nbsp\;|&nbsp\;execdir@missionchamber.bc.ca<br />\nLunch&nbsp\;included in the registration<br />\n*WiFi available<br />\n<br />\n<br />\n<br />\n&nbsp\;</p>\n\n<p>Nominations are now <strong>CLOSED</strong> for 3 available spots for Director on the Chamber Board (2-year terms beginning April 1\, 2020).<br />\n<br />\n<strong>Nominations</strong><br />\nIf you are a voting member in good standing you are eligible to run for Director.<br />\nIf you are interested in letting your name stand for election\, please contact Jo-Anne Chadwick<br />\n<a href="mailto:execdir@missionchamber.bc.ca?subject=Request%20for%20a%20Board%20Nomination%20Package%20from%20CM">execdir@missionchamber.bc.ca</a>&nbsp\;for the application package.</p>\n\n<p>Nominations from the membership at large require the signatures of two voting members in good standing as well as that of the nominee.<br />\n<br />\nIn addition\, a brief bio (200 words) and a headshot are required.<br />\nNominations for Director from the membership at large deadline for&nbsp\;completed nominations&nbsp\;is February 29\, 2020</p>\n
LOCATION:The Copper Hall 33129 Railway Ave
UID:e.1106.12114
SEQUENCE:3
DTSTAMP:20260422T091235Z
URL:https://business.missionchamber.bc.ca/events/details/mrcc-annual-general-meeting-12114
END:VEVENT

END:VCALENDAR
