BEGIN:VCALENDAR
VERSION:2.0
PRODID:-//ChamberMaster//Event Calendar 2.0//EN
METHOD:PUBLISH
X-PUBLISHED-TTL:P3D
REFRESH-INTERVAL:P3D
CALSCALE:GREGORIAN
BEGIN:VEVENT
DTSTART:20310911T144500Z
DTEND:20310911T160000Z
X-MICROSOFT-CDO-ALLDAYEVENT:FALSE
SUMMARY:MRCC Board Meeting
DESCRIPTION:Monthly Board Mission Regional Chamber of Commerce Meeting
X-ALT-DESC;FMTTYPE=text/html:Monthly Board Mission Regional Chamber of Commerce Meeting&nbsp\;
LOCATION:34033 Lougheed Hwy Mission BC
UID:e.1106.12390
SEQUENCE:3
DTSTAMP:20260421T044522Z
URL:https://business.missionchamber.bc.ca/events/details/mrcc-board-meeting-09-11-2031-12390
END:VEVENT

END:VCALENDAR
