BEGIN:VCALENDAR
VERSION:2.0
PRODID:-//ChamberMaster//Event Calendar 2.0//EN
METHOD:PUBLISH
X-PUBLISHED-TTL:P3D
REFRESH-INTERVAL:P3D
CALSCALE:GREGORIAN
BEGIN:VEVENT
DTSTART:20190511T160000Z
DTEND:20190512T220000Z
X-MICROSOFT-CDO-ALLDAYEVENT:FALSE
SUMMARY:PLANT SALE
DESCRIPTION:Annual Green Thumb Plant Sale Fundraiser for 4 Animal Charities. Hanging Baskets\, Shrubs\, Roses\, Perennials\, Annuals\, Herbs. To pre-order Baskets email junmo99@outlook.com
X-ALT-DESC;FMTTYPE=text/html:Annual Green Thumb Plant Sale Fundraiser for 4 Animal Charities. Hanging Baskets\, Shrubs\, Roses\, Perennials\, Annuals\, Herbs. To pre-order Baskets email junmo99@outlook.com
LOCATION:32965 4th Avenue\, Mission.
UID:e.1106.12038
SEQUENCE:3
DTSTAMP:20260422T201755Z
URL:https://business.missionchamber.bc.ca/events/details/plant-sale-05-04-2019-12038
END:VEVENT

END:VCALENDAR
