BEGIN:VCALENDAR
VERSION:2.0
PRODID:-//ChamberMaster//Event Calendar 2.0//EN
METHOD:PUBLISH
X-PUBLISHED-TTL:P3D
REFRESH-INTERVAL:P3D
CALSCALE:GREGORIAN
BEGIN:VEVENT
DTSTART:20190504T160000Z
DTEND:20190505T220000Z
X-MICROSOFT-CDO-ALLDAYEVENT:FALSE
SUMMARY:PLANT SALE
DESCRIPTION:Annual Green Thumb Plant Sale Fundraiser for 4 Animal Charities. Hanging Baskets\, Shrubs\, Roses\, Perennials\, Annuals\, Herbs. To pre-order Baskets junmo99@outlook.comemail
X-ALT-DESC;FMTTYPE=text/html:Annual Green Thumb Plant Sale Fundraiser for 4 Animal Charities. Hanging Baskets\, Shrubs\, Roses\, Perennials\, Annuals\, Herbs. To pre-order Baskets junmo99@outlook.comemail
LOCATION:32965 4th Avenue\, Mission.
UID:e.1106.12037
SEQUENCE:3
DTSTAMP:20260422T201257Z
URL:https://business.missionchamber.bc.ca/events/details/plant-sale-12037
END:VEVENT

END:VCALENDAR
