BEGIN:VCALENDAR
VERSION:2.0
PRODID:-//ChamberMaster//Event Calendar 2.0//EN
METHOD:PUBLISH
X-PUBLISHED-TTL:P3D
REFRESH-INTERVAL:P3D
CALSCALE:GREGORIAN
BEGIN:VEVENT
DTSTART:20200326T153000Z
DTEND:20200326T160000Z
X-MICROSOFT-CDO-ALLDAYEVENT:FALSE
SUMMARY:POSTPONED Table Talks - Coffee with the Chamber
DESCRIPTION:To know what is important to your business we need to hear from you.  \n\n "Table Talk"  is a casual gathering of business owners joining the Chamber for coffee. We want to hear what's important to you and your business. \n\nTopics could include challenges\, success stories\, and anything that the District\, Province or Fed Government need to know. This will help foster the growth of our policies that we can bring to levels of government in 2020.
X-ALT-DESC;FMTTYPE=text/html:<p><span style="color: rgb(64\, 63\, 66)\; font-family: Arial\, Verdana\, Helvetica\, sans-serif\; font-size: 14px\; background-color: rgb(246\, 246\, 246)\;">To know what is important to your business we need to hear from you.&nbsp\; </span></p>\n\n<p><span style="color: rgb(64\, 63\, 66)\; font-family: Arial\, Verdana\, Helvetica\, sans-serif\; font-size: 14px\; background-color: rgb(246\, 246\, 246)\;">&nbsp\;&ldquo\;Table Talk&rdquo\;&nbsp\;&nbsp\;is a casual gathering&nbsp\;of business owners joining the Chamber for coffee. We want to hear what&#39\;s important to you and your business.&nbsp\;</span></p>\n\n<p><span style="color: rgb(64\, 63\, 66)\; font-family: Arial\, Verdana\, Helvetica\, sans-serif\; font-size: 14px\; background-color: rgb(246\, 246\, 246)\;">Topics could include challenges\, success stories\, and anything that the District\, Province or Fed Government need to know. This will help foster the growth of our policies that we can bring to levels of government in 2020.</span></p>\n
LOCATION:Mission Chamber Boardroom
UID:e.1106.12138
SEQUENCE:3
DTSTAMP:20260422T055520Z
URL:https://business.missionchamber.bc.ca/events/details/postponed-table-talks-coffee-with-the-chamber-12138
END:VEVENT

END:VCALENDAR
