BEGIN:VCALENDAR
VERSION:2.0
PRODID:-//ChamberMaster//Event Calendar 2.0//EN
METHOD:PUBLISH
X-PUBLISHED-TTL:P3D
REFRESH-INTERVAL:P3D
CALSCALE:GREGORIAN
BEGIN:VEVENT
DTSTART:20191113T010000Z
DTEND:20191113T050000Z
X-MICROSOFT-CDO-ALLDAYEVENT:FALSE
SUMMARY:**REG CLOSED** Career Assessment Workshop with Empowered Living Services PART 2
DESCRIPTION:This is DAY 2 of the  IT'S NEVER TOO LATE Career Assessment with Empowered Living Services  \n\n\n\nTyler Carr\, Career Specialist and Founder of ELS\, is offering Members  (and non-members) an opportunity to take his career assessment workshop at a fraction of the regular cost.  \n\n\n\nInvest two sessions in November and invest in yourself.  \n\n\n\nDAY 1 - Nov 7 This session participants will receive their assessments and guidance on completing it\n\nDAY 2 - This session participants will receive their one on one assessment debrief from Tyler Carr
X-ALT-DESC;FMTTYPE=text/html:<span style="color:#008080\;"><strong>This is DAY 2 of the&nbsp\; IT&#39\;S NEVER TOO LATE Career Assessment with Empowered Living Services&nbsp\;</strong></span>&nbsp\;<br />\n<br />\nTyler Carr\, Career Specialist and Founder of ELS\, is offering Members&nbsp\; (and non-members) an opportunity to take his career assessment workshop at a fraction of the regular cost.&nbsp\;&nbsp\;<br />\n<br />\nInvest two sessions in November and invest in yourself.&nbsp\;&nbsp\;<br />\n<br />\nDAY 1 - Nov 7 This session participants will receive their assessments and guidance on completing it<br />\nDAY 2 - This session participants will receive their one on one assessment debrief from Tyler Carr
LOCATION:Mission Regional Chamber of Commerce Boardroom
UID:e.1106.12095
SEQUENCE:3
DTSTAMP:20260422T104540Z
URL:https://business.missionchamber.bc.ca/events/details/reg-closed-career-assessment-workshop-with-empowered-living-services-part-2-12095
END:VEVENT

END:VCALENDAR
