BEGIN:VCALENDAR
VERSION:2.0
PRODID:-//ChamberMaster//Event Calendar 2.0//EN
METHOD:PUBLISH
X-PUBLISHED-TTL:P3D
REFRESH-INTERVAL:P3D
CALSCALE:GREGORIAN
BEGIN:VEVENT
DTSTART:20260523T201500Z
DTEND:20260524T020000Z
X-MICROSOFT-CDO-ALLDAYEVENT:FALSE
SUMMARY:St. Joseph's Food Bank Charity Golf Tournament
DESCRIPTION:Tee up for a day of great golf\, great company\, and an even greater cause. Join St. Joseph's Food Bank for this event where every drive\, chip\, and putt helps put food on the table for families in need in our community. This exciting event brings together golfers\, local businesses\, and community leaders for a memorable day on the course all while supporting our local food bank. \n\n\n\nWhy it Matters\n\nFood insecurity continues to affect individuals and families right here at home. Your participation directly supports the food bank's mission to provide nutritious meals and essential supplies to those who need them most. One day on the greens can make a meaningful difference in someone's life. \n\n\n\nTournament Highlights \n\n18 holes of golf on a premier course\n\nShotgun start & scramble format\n\nOn-course contests & raffle \n\nPost-round dinner and awards ceremony\n\nSponsorship opportunities for local businesses\n\n\n\nGet Involved\n\nRegister as an individual or team\n\nBecome an event sponsor\n\nDonate auction or raffle items\n\nVolunteer to help make the day a success\n\n\n\nTogether\, we can drive change one swing at a time. \n\nReserve your spot today and help us turn birdies into better tomorrows.
X-ALT-DESC;FMTTYPE=text/html:Tee up for a day of great golf\, great company\, and an even greater cause. Join St. Joseph&#39\;s Food Bank for this event where every drive\, chip\, and putt helps put food on the table for families in need in our community. This exciting event brings together golfers\, local businesses\, and community leaders for a memorable day on the course all while supporting our local food bank.&nbsp\;<br />\n<br />\n<strong>Why it Matters</strong><br />\nFood insecurity continues to affect individuals and families right here at home. Your participation directly supports the food bank&#39\;s mission to provide nutritious meals and essential supplies to those who need them most. One day on the greens can make a meaningful difference in someone&#39\;s life.&nbsp\;<br />\n<br />\n<strong>Tournament Highlights&nbsp\;</strong><br />\n18 holes of golf on a premier course<br />\nShotgun start &amp\; scramble format<br />\nOn-course contests &amp\; raffle&nbsp\;<br />\nPost-round dinner and awards ceremony<br />\nSponsorship opportunities for local businesses<br />\n<br />\n<strong>Get Involved</strong><br />\nRegister as an individual or team<br />\nBecome an event sponsor<br />\nDonate auction or raffle items<br />\nVolunteer to help make the day a success<br />\n<br />\nTogether\, we can drive change one swing at a time.&nbsp\;<br />\nReserve your spot today and help us turn birdies into better tomorrows.&nbsp\;<br />\n&nbsp\;
LOCATION:Mission Golf & Country Club 7983 Nelson St Mission
UID:e.1106.14213
SEQUENCE:3
DTSTAMP:20260422T133102Z
URL:https://business.missionchamber.bc.ca/events/details/st-joseph-s-food-bank-charity-golf-tournament-14213
END:VEVENT

END:VCALENDAR
