BEGIN:VCALENDAR
VERSION:2.0
PRODID:-//ChamberMaster//Event Calendar 2.0//EN
METHOD:PUBLISH
X-PUBLISHED-TTL:P3D
REFRESH-INTERVAL:P3D
CALSCALE:GREGORIAN
BEGIN:VEVENT
DTSTART:20191128T163000Z
DTEND:20191128T173000Z
X-MICROSOFT-CDO-ALLDAYEVENT:FALSE
SUMMARY:Table Talks - Coffee with the Chamber
DESCRIPTION:To know what is important to your business we need to hear from you.  \n\nNov 28th will host the first  "Table Talk" which is a small group of business owners joining the Chamber for coffee. We will be participating in an informal discussion. \n\nTopics could include challenges\, success stories\, and anything that the District\, Province or Fed Government would like to know. This will help foster the growth of our policies that we can bring to levels of government in 2020.
X-ALT-DESC;FMTTYPE=text/html:<p><span style="color: rgb(64\, 63\, 66)\; font-family: Arial\, Verdana\, Helvetica\, sans-serif\; font-size: 14px\; background-color: rgb(246\, 246\, 246)\;">To know what is important to your business we need to hear from you.&nbsp\; </span></p>\n\n<p><span style="color: rgb(64\, 63\, 66)\; font-family: Arial\, Verdana\, Helvetica\, sans-serif\; font-size: 14px\; background-color: rgb(246\, 246\, 246)\;">Nov 28th will host the first&nbsp\;&nbsp\;&ldquo\;Table Talk&rdquo\;&nbsp\;which is a small group of business owners joining the Chamber for coffee. We will be participating in an informal discussion. </span></p>\n\n<p><span style="color: rgb(64\, 63\, 66)\; font-family: Arial\, Verdana\, Helvetica\, sans-serif\; font-size: 14px\; background-color: rgb(246\, 246\, 246)\;">Topics could include challenges\, success stories\, and anything that the District\, Province or Fed Government would like to know. This will help foster the growth of our policies that we can bring to levels of government in 2020.</span></p>\n
LOCATION:Mission Chamber Boardroom
UID:e.1106.12108
SEQUENCE:3
DTSTAMP:20260422T120224Z
URL:https://business.missionchamber.bc.ca/events/details/table-talks-coffee-with-the-chamber-12108
END:VEVENT

END:VCALENDAR
