BEGIN:VCALENDAR
VERSION:2.0
PRODID:-//ChamberMaster//Event Calendar 2.0//EN
METHOD:PUBLISH
X-PUBLISHED-TTL:P3D
REFRESH-INTERVAL:P3D
CALSCALE:GREGORIAN
BEGIN:VEVENT
DTSTART:20191005T000000Z
DTEND:20191005T020000Z
X-MICROSOFT-CDO-ALLDAYEVENT:FALSE
SUMMARY:Travel to Sunny Portugal - Information Session
DESCRIPTION:Join the Mission Chamber of Commerce on a trip to Portugal which includes Estoril Coast\, Algarve & Alentejo.  \n\nApril 21-30\, 2020\nThis information session is FREE to attend so bring your dreams and your questions.\n\nIf you can not make this session and would like more information on this trip of a lifetime please contact Janessa at connect@missionchamber.bc.ca  to receive an information package via email. \n\n\n\nWe hope to see you there!
X-ALT-DESC;FMTTYPE=text/html:<div style="widows: 1\;">\n<p><span style="font-size:16px\;"><font face="Helvetica\, Arial\, sans-serif">Join the Mission Chamber of Commerce on a trip to Portugal which includes Estoril Coast\, Algarve &amp\; Alentejo.&nbsp\;&nbsp\;</font></span></p>\n\n<p><span style="font-size:16px\;"><strong><font face="Helvetica\, Arial\, sans-serif">April 21-30\, 2020</font></strong></span></p>\n<span style="font-size:16px\;">This information session is FREE to attend so bring your dreams and your questions.<br />\nIf you can not make this session and would like more information on this trip of a lifetime please contact Janessa at <a href="mailto:connect@missionchamber.bc.ca?subject=Please%20send%20me%20information%20on%20Sunny%20Portugal%20">c</a></span><a href="mailto:connect@missionchamber.bc.ca?subject=Please%20send%20me%20information%20on%20Sunny%20Portugal%20"><span style="font-size: 16px\;">onnect@mission</span></a><span style="font-size: 16px\;"><a href="mailto:connect@missionchamber.bc.ca?subject=Please%20send%20me%20information%20on%20Sunny%20Portugal%20">chamber.bc.ca</a>&nbsp\; to receive an information package via email.&nbsp\;<br />\n<br />\nWe hope to see you there!</span><br />\n&nbsp\;</div>\n
LOCATION:Mission Chamber Board Room
UID:e.1106.12091
SEQUENCE:3
DTSTAMP:20260422T120539Z
URL:https://business.missionchamber.bc.ca/events/details/travel-to-sunny-portugal-information-session-12091
END:VEVENT

END:VCALENDAR
