BEGIN:VCALENDAR
VERSION:2.0
PRODID:-//ChamberMaster//Event Calendar 2.0//EN
METHOD:PUBLISH
X-PUBLISHED-TTL:P3D
REFRESH-INTERVAL:P3D
CALSCALE:GREGORIAN
BEGIN:VEVENT
DTSTART:20200519T170000Z
DTEND:20200519T193000Z
X-MICROSOFT-CDO-ALLDAYEVENT:FALSE
SUMMARY:Webinar - Readjustment in Relationships during COVID-19
DESCRIPTION:READJUSTMENT IN RELATIONSHIPS - Session 2 of the "Winds of Change" Series z\n\nThe strain that the current situation is putting on our lives is immense. And it is affecting most of our relationships in some way. \n\n\n\nMission Chamber is inviting you to a scheduled Zoom meeting.\n\n\n\nTopic: ILM - Webinar Series - Jason Wong - Readjust to Relationship\n\nTime: May 19\, 2020 10:00 AM Pacific Time (US and Canada)\n\n\n\nJoin Zoom Meeting\n\nhttps://us02web.zoom.us/j/84537821078?pwd=dytrZythamlhMFdtbzVmY0Q3Y3U2QT09\n\n\n\nMeeting ID: 845 3782 1078\n\nPassword: Chamber01\n\nOne tap mobile\n\n+16473744685\,\,84537821078#\,\,1#\,580763# Canada\n\n+16475580588\,\,84537821078#\,\,1#\,580763# Canada\n\n\n\nDial by your location\n\n        +1 647 374 4685 Canada\n\n        +1 647 558 0588 Canada\n\n       \n\nMeeting ID: 845 3782 1078\n\nPassword: 580763\n\nFind your local number: https://us02web.zoom.us/u/kcZxWcCio1
X-ALT-DESC;FMTTYPE=text/html:<p><span style="box-sizing: border-box\; font-weight: bolder\; outline: 0px\; color: rgb(13\, 31\, 44)\; font-family: Raleway\, sans-serif\; font-size: 16px\; background-color: rgb(243\, 243\, 243)\;"><span style="box-sizing: border-box\; outline: 0px\; color: rgb(0\, 0\, 0)\;"><span style="box-sizing: border-box\; outline: 0px\; font-size: 14px\;"><span style="box-sizing: border-box\; outline: 0px\; font-family: arial\;">READJUSTMENT IN&nbsp\;RELATIONSHIPS&nbsp\;- Session 2 of the &quot\;Winds of Change&quot\; Series z</span></span></span></span><br />\n<span style="font-size:14px\;"><span style="font-family:tahoma\,sans-serif\;">The strain that the current situation is putting on our lives is immense. And it is affecting most of our relationships in some way. </span></span><br />\n<br />\n<span style="font-size:14px\;"><span style="font-family:arial\;">Mission Chamber is inviting you to a scheduled Zoom meeting.<br />\n<br />\nTopic: ILM - Webinar Series - Jason Wong - Readjust to Relationship<br />\nTime: May 19\, 2020 10:00 AM Pacific Time (US and Canada)<br />\n<br />\nJoin Zoom Meeting<br />\n<a href="https://us02web.zoom.us/j/84537821078?pwd=dytrZythamlhMFdtbzVmY0Q3Y3U2QT09" target="_blank">https://us02web.zoom.us/j/84537821078?pwd=dytrZythamlhMFdtbzVmY0Q3Y3U2QT09</a><br />\n<br />\nMeeting ID: 845 3782 1078<br />\nPassword: Chamber01<br />\nOne tap mobile<br />\n+16473744685\,\,84537821078#\,\,1#\,580763# Canada<br />\n+16475580588\,\,84537821078#\,\,1#\,580763# Canada<br />\n<br />\nDial by your location<br />\n&nbsp\; &nbsp\; &nbsp\; &nbsp\; +1 647 374 4685 Canada<br />\n&nbsp\; &nbsp\; &nbsp\; &nbsp\; +1 647 558 0588 Canada<br />\n&nbsp\; &nbsp\; &nbsp\; &nbsp\;<br />\nMeeting ID: <strong>845 3782 1078</strong><br />\nPassword: <strong>580763</strong><br />\nFind your local number: https://us02web.zoom.us/u/kcZxWcCio1</span></span></p>\n\n<p>&nbsp\;</p>\n
LOCATION:This workshop will be delivered via Zoom
UID:e.1106.12155
SEQUENCE:3
DTSTAMP:20260422T021302Z
URL:https://business.missionchamber.bc.ca/events/details/webinar-readjustment-in-relationships-during-covid-19-12155
END:VEVENT

END:VCALENDAR
